Workbook

Sheet Dashboard
A1: Dashboard
U8: =GETPIVOTDATA("Supply Chain Emission Factors with Margins",Input!$C$3) -> 38.397
U16: =Input!C4 -> Health Care
U22: =Input!M4 -> 13236693 | AB22: garbage trucks

Sheet Input
A1: Dashboard
C3: Row Labels | D3: Sum of Supply Chain Emission Factors with Margins | F3: Sectors | G3: Emission Factors | H3: Counts of Titles | I3: Averages | J3: Million Metric Tons | K3: Gasoline-powered passenger vehicles per year | L3: Home Energy Use | M3: Garbage trucks of waste recycled instead landfilled
C4: Health Care | D4: 5.104 | F4: =IF(C4="", "", IF(C4="Grand Total", "", C4)) -> Health Care | G4: =IF(D4="","",IF(F4="","",D4)) -> 5.104 | H4: =IF(C4="", "", IF(F4="","", COUNTIF(AllData!$F$2:$F$1017,Input!C4))) -> 42 | I4: =IF(C4="","",IF(F4="","",G4/H4)) -> 0.12152381 | J4: =IF(F4="","", 6343.2*(H4/1016)) -> 262.2189 | K4: =IF(F4="","", J4*10^6/(8.89*10^-3*10917*1/22.8*1/0.994)) -> 61232240 | L4: =IF(F4="","",J4*10^6/(7.45)) -> 35197167 | M4: =IF(F4="","",J4*10^6/(19.81)) -> 13236693
C5: Financial Services | D5: 3.036 | F5: =IF(C5="", "", IF(C5="Grand Total", "", C5)) -> Financial Services | G5: =IF(D5="","",IF(F5="","",D5)) -> 3.036 | H5: =IF(C5="", "", IF(F5="","", COUNTIF(AllData!$F$2:$F$1017,Input!C5))) -> 33 | I5: =IF(C5="","",IF(F5="","",G5/H5)) -> 0.092 | J5: =IF(F5="","", 6343.2*(H5/1016)) -> 206.02913 | K5: =IF(F5="","", J5*10^6/(8.89*10^-3*10917*1/22.8*1/0.994)) -> 48111046 | L5: =IF(F5="","",J5*10^6/(7.45)) -> 27654917 | M5: =IF(F5="","",J5*10^6/(19.81)) -> 10400259
C6: Transportation and Logistics | D6: 2.694 | F6: =IF(C6="", "", IF(C6="Grand Total", "", C6)) -> Transportation and Logistics | G6: =IF(D6="","",IF(F6="","",D6)) -> 2.694 | H6: =IF(C6="", "", IF(F6="","", COUNTIF(AllData!$F$2:$F$1017,Input!C6))) -> 17 | I6: =IF(C6="","",IF(F6="","",G6/H6)) -> 0.15847059 | J6: =IF(F6="","", 6343.2*(H6/1016)) -> 106.13622 | K6: =IF(F6="","", J6*10^6/(8.89*10^-3*10917*1/22.8*1/0.994)) -> 24784478 | L6: =IF(F6="","",J6*10^6/(7.45)) -> 14246473 | M6: =IF(F6="","",J6*10^6/(19.81)) -> 5357709.3
C7: Utilities | D7: 2.266 | F7: =IF(C7="", "", IF(C7="Grand Total", "", C7)) -> Utilities | G7: =IF(D7="","",IF(F7="","",D7)) -> 2.266 | H7: =IF(C7="", "", IF(F7="","", COUNTIF(AllData!$F$2:$F$1017,Input!C7))) -> 4 | I7: =IF(C7="","",IF(F7="","",G7/H7)) -> 0.5665 | J7: =IF(F7="","", 6343.2*(H7/1016)) -> 24.973228 | K7: =IF(F7="","", J7*10^6/(8.89*10^-3*10917*1/22.8*1/0.994)) -> 5831641.9 | L7: =IF(F7="","",J7*10^6/(7.45)) -> 3352111.2 | M7: =IF(F7="","",J7*10^6/(19.81)) -> 1260637.5
C8: Professional Services | D8: 2.244 | F8: =IF(C8="", "", IF(C8="Grand Total", "", C8)) -> Professional Services | G8: =IF(D8="","",IF(F8="","",D8)) -> 2.244 | H8: =IF(C8="", "", IF(F8="","", COUNTIF(AllData!$F$2:$F$1017,Input!C8))) -> 24 | I8: =IF(C8="","",IF(F8="","",G8/H8)) -> 0.0935 | J8: =IF(F8="","", 6343.2*(H8/1016)) -> 149.83937 | K8: =IF(F8="","", J8*10^6/(8.89*10^-3*10917*1/22.8*1/0.994)) -> 34989851 | L8: =IF(F8="","",J8*10^6/(7.45)) -> 20112667 | M8: =IF(F8="","",J8*10^6/(19.81)) -> 7563824.8
C9: Real Estate | D9: 2.053 | F9: =IF(C9="", "", IF(C9="Grand Total", "", C9)) -> Real Estate | G9: =IF(D9="","",IF(F9="","",D9)) -> 2.053 | H9: =IF(C9="", "", IF(F9="","", COUNTIF(AllData!$F$2:$F$1017,Input!C9))) -> 10 | I9: =IF(C9="","",IF(F9="","",G9/H9)) -> 0.2053 | J9: =IF(F9="","", 6343.2*(H9/1016)) -> 62.433071 | K9: =IF(F9="","", J9*10^6/(8.89*10^-3*10917*1/22.8*1/0.994)) -> 14579105 | L9: =IF(F9="","",J9*10^6/(7.45)) -> 8380278 | M9: =IF(F9="","",J9*10^6/(19.81)) -> 3151593.7
C10: Educational Services | D10: 1.978 | F10: =IF(C10="", "", IF(C10="Grand Total", "", C10)) -> Educational Services | G10: =IF(D10="","",IF(F10="","",D10)) -> 1.978 | H10: =IF(C10="", "", IF(F10="","", COUNTIF(AllData!$F$2:$F$1017,Input!C10))) -> 17 | I10: =IF(C10="","",IF(F10="","",G10/H10)) -> 0.11635294 | J10: =IF(F10="","", 6343.2*(H10/1016)) -> 106.13622 | K10: =IF(F10="","", J10*10^6/(8.89*10^-3*10917*1/22.8*1/0.994)) -> 24784478 | L10: =IF(F10="","",J10*10^6/(7.45)) -> 14246473 | M10: =IF(F10="","",J10*10^6/(19.81)) -> 5357709.3
C11: Arts and Entertainment | D11: 1.953 | F11: =IF(C11="", "", IF(C11="Grand Total", "", C11)) -> Arts and Entertainment | G11: =IF(D11="","",IF(F11="","",D11)) -> 1.953 | H11: =IF(C11="", "", IF(F11="","", COUNTIF(AllData!$F$2:$F$1017,Input!C11))) -> 26 | I11: =IF(C11="","",IF(F11="","",G11/H11)) -> 0.075115385 | J11: =IF(F11="","", 6343.2*(H11/1016)) -> 162.32598 | K11: =IF(F11="","", J11*10^6/(8.89*10^-3*10917*1/22.8*1/0.994)) -> 37905672 | L11: =IF(F11="","",J11*10^6/(7.45)) -> 21788723 | M11: =IF(F11="","",J11*10^6/(19.81)) -> 8194143.6
C12: Rental Services | D12: 1.468 | F12: =IF(C12="", "", IF(C12="Grand Total", "", C12)) -> Rental Services | G12: =IF(D12="","",IF(F12="","",D12)) -> 1.468 | H12: =IF(C12="", "", IF(F12="","", COUNTIF(AllData!$F$2:$F$1017,Input!C12))) -> 14 | I12: =IF(C12="","",IF(F12="","",G12/H12)) -> 0.10485714 | J12: =IF(F12="","", 6343.2*(H12/1016)) -> 87.406299 | K12: =IF(F12="","", J12*10^6/(8.89*10^-3*10917*1/22.8*1/0.994)) -> 20410747 | L12: =IF(F12="","",J12*10^6/(7.45)) -> 11732389 | M12: =IF(F12="","",J12*10^6/(19.81)) -> 4412231.2
C13: Recreation and Leisure | D13: 1.41 | F13: =IF(C13="", "", IF(C13="Grand Total", "", C13)) -> Recreation and Leisure | G13: =IF(D13="","",IF(F13="","",D13)) -> 1.41 | H13: =IF(C13="", "", IF(F13="","", COUNTIF(AllData!$F$2:$F$1017,Input!C13))) -> 6 | I13: =IF(C13="","",IF(F13="","",G13/H13)) -> 0.235 | J13: =IF(F13="","", 6343.2*(H13/1016)) -> 37.459843 | K13: =IF(F13="","", J13*10^6/(8.89*10^-3*10917*1/22.8*1/0.994)) -> 8747462.9 | L13: =IF(F13="","",J13*10^6/(7.45)) -> 5028166.8 | M13: =IF(F13="","",J13*10^6/(19.81)) -> 1890956.2
C14: Business Services | D14: 1.21 | F14: =IF(C14="", "", IF(C14="Grand Total", "", C14)) -> Business Services | G14: =IF(D14="","",IF(F14="","",D14)) -> 1.21 | H14: =IF(C14="", "", IF(F14="","", COUNTIF(AllData!$F$2:$F$1017,Input!C14))) -> 11 | I14: =IF(C14="","",IF(F14="","",G14/H14)) -> 0.11 | J14: =IF(F14="","", 6343.2*(H14/1016)) -> 68.676378 | K14: =IF(F14="","", J14*10^6/(8.89*10^-3*10917*1/22.8*1/0.994)) -> 16037015 | L14: =IF(F14="","",J14*10^6/(7.45)) -> 9218305.8 | M14: =IF(F14="","",J14*10^6/(19.81)) -> 3466753.1
C15: Non-Profit Organizations | D15: 1.198 | F15: =IF(C15="", "", IF(C15="Grand Total", "", C15)) -> Non-Profit Organizations | G15: =IF(D15="","",IF(F15="","",D15)) -> 1.198 | H15: =IF(C15="", "", IF(F15="","", COUNTIF(AllData!$F$2:$F$1017,Input!C15))) -> 13 | I15: =IF(C15="","",IF(F15="","",G15/H15)) -> 0.092153846 | J15: =IF(F15="","", 6343.2*(H15/1016)) -> 81.162992 | K15: =IF(F15="","", J15*10^6/(8.89*10^-3*10917*1/22.8*1/0.994)) -> 18952836 | L15: =IF(F15="","",J15*10^6/(7.45)) -> 10894361 | M15: =IF(F15="","",J15*10^6/(19.81)) -> 4097071.8
... C35: Grand Total | D35: 38.397 | F35: =IF(C35="", "", IF(C35="Grand Total", "", C35)) | G35: =IF(D35="","",IF(F35="","",D35)) | H35: =IF(C35="", "", IF(F35="","", COUNTIF(AllData!$F$2:$F$1017,Input!C35))) | I35: =IF(C35="","",IF(F35="","",G35/H35)) | J35: =IF(F35="","", 6343.2*(H35/1016)) | K35: =IF(F35="","", J35*10^6/(8.89*10^-3*10917*1/22.8*1/0.994)) | L35: =IF(F35="","",J35*10^6/(7.45)) | M35: =IF(F35="","",J35*10^6/(19.81))
F36: =IF(C36="", "", IF(C36="Grand Total", "", C36)) | G36: =IF(D36="","",IF(F36="","",D36)) | H36: =IF(C36="", "", IF(F36="","", COUNTIF(AllData!$F$2:$F$1017,Input!C36))) | I36: =IF(C36="","",IF(F36="","",G36/H36)) | J36: =IF(F36="","", 6343.2*(H36/1016)) | K36: =IF(F36="","", J36*10^6/(8.89*10^-3*10917*1/22.8*1/0.994)) | L36: =IF(F36="","",J36*10^6/(7.45)) | M36: =IF(F36="","",J36*10^6/(19.81))
F37: =IF(C37="", "", IF(C37="Grand Total", "", C37)) | G37: =IF(D37="","",IF(F37="","",D37)) | H37: =IF(C37="", "", IF(F37="","", COUNTIF(AllData!$F$2:$F$1017,Input!C37))) | I37: =IF(C37="","",IF(F37="","",G37/H37)) | J37: =IF(F37="","", 6343.2*(H37/1016)) | K37: =IF(F37="","", J37*10^6/(8.89*10^-3*10917*1/22.8*1/0.994)) | L37: =IF(F37="","",J37*10^6/(7.45)) | M37: =IF(F37="","",J37*10^6/(19.81))
F38: =IF(C38="", "", IF(C38="Grand Total", "", C38)) | G38: =IF(D38="","",IF(F38="","",D38)) | H38: =IF(C38="", "", IF(F38="","", COUNTIF(AllData!$F$2:$F$1017,Input!C38))) | I38: =IF(C38="","",IF(F38="","",G38/H38)) | J38: =IF(F38="","", 6343.2*(H38/1016)) | K38: =IF(F38="","", J38*10^6/(8.89*10^-3*10917*1/22.8*1/0.994)) | L38: =IF(F38="","",J38*10^6/(7.45)) | M38: =IF(F38="","",J38*10^6/(19.81))
F39: =IF(C39="", "", IF(C39="Grand Total", "", C39)) | G39: =IF(D39="","",IF(F39="","",D39)) | H39: =IF(C39="", "", IF(F39="","", COUNTIF(AllData!$F$2:$F$1017,Input!C39))) | I39: =IF(C39="","",IF(F39="","",G39/H39)) | J39: =IF(F39="","", 6343.2*(H39/1016)) | K39: =IF(F39="","", J39*10^6/(8.89*10^-3*10917*1/22.8*1/0.994)) | L39: =IF(F39="","",J39*10^6/(7.45)) | M39: =IF(F39="","",J39*10^6/(19.81))
F40: =IF(C40="", "", IF(C40="Grand Total", "", C40)) | G40: =IF(D40="","",IF(F40="","",D40)) | H40: =IF(C40="", "", IF(F40="","", COUNTIF(AllData!$F$2:$F$1017,Input!C40))) | I40: =IF(C40="","",IF(F40="","",G40/H40)) | J40: =IF(F40="","", 6343.2*(H40/1016)) | K40: =IF(F40="","", J40*10^6/(8.89*10^-3*10917*1/22.8*1/0.994)) | L40: =IF(F40="","",J40*10^6/(7.45)) | M40: =IF(F40="","",J40*10^6/(19.81))
F41: =IF(C41="", "", IF(C41="Grand Total", "", C41)) | G41: =IF(D41="","",IF(F41="","",D41)) | H41: =IF(C41="", "", IF(F41="","", COUNTIF(AllData!$F$2:$F$1017,Input!C41))) | I41: =IF(C41="","",IF(F41="","",G41/H41)) | J41: =IF(F41="","", 6343.2*(H41/1016)) | K41: =IF(F41="","", J41*10^6/(8.89*10^-3*10917*1/22.8*1/0.994)) | L41: =IF(F41="","",J41*10^6/(7.45)) | M41: =IF(F41="","",J41*10^6/(19.81))
F42: =IF(C42="", "", IF(C42="Grand Total", "", C42)) | G42: =IF(D42="","",IF(F42="","",D42)) | H42: =IF(C42="", "", IF(F42="","", COUNTIF(AllData!$F$2:$F$1017,Input!C42))) | I42: =IF(C42="","",IF(F42="","",G42/H42)) | J42: =IF(F42="","", 6343.2*(H42/1016)) | K42: =IF(F42="","", J42*10^6/(8.89*10^-3*10917*1/22.8*1/0.994)) | L42: =IF(F42="","",J42*10^6/(7.45)) | M42: =IF(F42="","",J42*10^6/(19.81))

Sheet AllData
A1: Dashboard | C1: 2017 NAICS Title | D1: Supply Chain Emission Factors with Margins | E1: Reference USEEIO Code | F1: Industry
C2: Insurance Agencies and Brokerages | D2: 0.029 | E2: 524200 | F2: Insurance
C3: Claims Adjusting | D3: 0.029 | E3: 524200 | F3: Insurance
C4: Third Party Administration of Insurance and Pension Funds | D4: 0.029 | E4: 524200 | F4: Insurance
C5: All Other Insurance Related Activities | D5: 0.029 | E5: 524200 | F5: Insurance
C6: Direct Health and Medical Insurance Carriers | D6: 0.033 | E6: 5241XX | F6: Insurance
C7: Direct Property and Casualty Insurance Carriers | D7: 0.033 | E7: 5241XX | F7: Insurance
C8: Direct Title Insurance Carriers | D8: 0.033 | E8: 5241XX | F8: Insurance
C9: Other Direct Insurance (except Life, Health, and Medical) Carriers | D9: 0.033 | E9: 5241XX | F9: Insurance
C10: Reinsurance Carriers | D10: 0.033 | E10: 5241XX | F10: Insurance
C11: Lessors of Residential Buildings and Dwellings | D11: 0.033 | E11: 531HSO, 531HST | F11: Real Estate
C12: Independent Artists, Writers, and Performers | D12: 0.033 | E12: 711500 | F12: Arts and Entertainment
C13: Offices of Lawyers | D13: 0.041 | E13: 541100 | F13: Legal
C14: Offices of Notaries | D14: 0.041 | E14: 541100 | F14: Legal
C15: Title Abstract and Settlement Offices | D15: 0.041 | E15: 541100 | F15: Legal
C16: All Other Legal Services | D16: 0.041 | E16: 541100 | F16: Legal
C17: Investment Banking and Securities Dealing | D17: 0.043 | E17: 523A00 | F17: Financial Services
C18: Securities Brokerage | D18: 0.043 | E18: 523A00 | F18: Financial Services
C19: Commodity Contracts Dealing | D19: 0.043 | E19: 523A00 | F19: Financial Services
C20: Commodity Contracts Brokerage | D20: 0.043 | E20: 523A00 | F20: Financial Services
C21: Securities and Commodity Exchanges | D21: 0.043 | E21: 523A00 | F21: Financial Services
C22: Music Publishers | D22: 0.044 | E22: 512200 | F22: Arts and Entertainment
C23: Sound Recording Studios | D23: 0.044 | E23: 512200 | F23: Arts and Entertainment
C24: Record Production and Distribution | D24: 0.044 | E24: 512200 | F24: Arts and Entertainment
C25: Other Sound Recording Industries | D25: 0.044 | E25: 512200 | F25: Arts and Entertainment
C26: Funeral Homes and Funeral Services | D26: 0.047 | E26: 812200 | F26: Other Services
C27: Cemeteries and Crematories | D27: 0.047 | E27: 812200 | F27: Other Services
C28: Direct Life Insurance Carriers | D28: 0.051 | E28: 524113 | F28: Insurance
C29: Employment Placement Agencies | D29: 0.051 | E29: 561300 | F29: Professional Services
C30: Executive Search Services | D30: 0.051 | E30: 561300 | F30: Professional Services
C31: Temporary Help Services | D31: 0.051 | E31: 561300 | F31: Professional Services
C32: Professional Employer Organizations | D32: 0.051 | E32: 561300 | F32: Professional Services
C33: Motion Picture and Video Production | D33: 0.052 | E33: 512100 | F33: Arts and Entertainment
... C45: Electronic Computer Manufacturing | D45: 0.058 | E45: 334111 | F45: Technology
C46: Monetary Authorities-Central Bank | D46: 0.059 | E46: 52A000 | F46: Financial Services
C47: Commercial Banking | D47: 0.059 | E47: 52A000 | F47: Financial Services
C48: Savings Institutions | D48: 0.059 | E48: 52A000 | F48: Financial Services
C49: Credit Unions | D49: 0.059 | E49: 52A000 | F49: Financial Services
C50: Other Depository Credit Intermediation | D50: 0.059 | E50: 52A000 | F50: Financial Services
C51: Grantmaking Foundations | D51: 0.059 | E51: 813A00 | F51: Non-Profit Organizations
...

Sheet Contacts
A1: Dashboard | C1: Email
C2: c3daction@outlook.com
